BEGIN:VCALENDAR
METHOD:PUBLISH
PRODID:-//Moodle Pty Ltd//NONSGML Moodle Version 2019111803.08//EN
VERSION:2.0
BEGIN:VEVENT
UID:94682444124@blendedlearning.bharatskills.gov.in
SUMMARY:Online Class  - 10:00 am to 11:00 am 1 hour
DTSTAMP:20260421T094338Z
LAST-MODIFIED:20200819T074057Z
DTSTART:20200612T113000Z
DTEND:20200612T123000Z
DESCRIPTION:Meeting join URL: https://blendedlearning.bharatskills.gov.in/m
	od/zoom/view.php?id=391.
	
END:VEVENT
END:VCALENDAR
